BEGIN:VCALENDAR
VERSION:2.0
PRODID:-//ACCES Employment - ECPv6.15.18//NONSGML v1.0//EN
CALSCALE:GREGORIAN
METHOD:PUBLISH
X-ORIGINAL-URL:https://accesemployment.ca
X-WR-CALDESC:Events for ACCES Employment
REFRESH-INTERVAL;VALUE=DURATION:PT1H
X-Robots-Tag:noindex
X-PUBLISHED-TTL:PT1H
BEGIN:VTIMEZONE
TZID:America/Toronto
BEGIN:DAYLIGHT
TZOFFSETFROM:-0500
TZOFFSETTO:-0400
TZNAME:EDT
DTSTART:20250309T070000
END:DAYLIGHT
BEGIN:STANDARD
TZOFFSETFROM:-0400
TZOFFSETTO:-0500
TZNAME:EST
DTSTART:20251102T060000
END:STANDARD
BEGIN:DAYLIGHT
TZOFFSETFROM:-0500
TZOFFSETTO:-0400
TZNAME:EDT
DTSTART:20260308T070000
END:DAYLIGHT
BEGIN:STANDARD
TZOFFSETFROM:-0400
TZOFFSETTO:-0500
TZNAME:EST
DTSTART:20261101T060000
END:STANDARD
BEGIN:DAYLIGHT
TZOFFSETFROM:-0500
TZOFFSETTO:-0400
TZNAME:EDT
DTSTART:20270314T070000
END:DAYLIGHT
BEGIN:STANDARD
TZOFFSETFROM:-0400
TZOFFSETTO:-0500
TZNAME:EST
DTSTART:20271107T060000
END:STANDARD
END:VTIMEZONE
BEGIN:VEVENT
DTSTART;TZID=America/Toronto:20260603T120000
DTEND;TZID=America/Toronto:20260603T130000
DTSTAMP:20260425T062540
CREATED:20260424T180016Z
LAST-MODIFIED:20260424T180016Z
UID:10002959-1780488000-1780491600@accesemployment.ca
SUMMARY:Connecting With Clients In A Digital World- Webinar 2
DESCRIPTION:SEND Webinar
URL:https://accesemployment.ca/event/connecting-with-clients-in-a-digital-world-webinar-2-3
LOCATION:Online\, Online
CATEGORIES:Custom Event
END:VEVENT
BEGIN:VEVENT
DTSTART;TZID=America/Toronto:20260617T120000
DTEND;TZID=America/Toronto:20260617T130000
DTSTAMP:20260425T062540
CREATED:20260424T180017Z
LAST-MODIFIED:20260424T180017Z
UID:10002960-1781697600-1781701200@accesemployment.ca
SUMMARY:Connecting With Clients In A Digital World- Webinar 3
DESCRIPTION:SEND Webinar
URL:https://accesemployment.ca/event/connecting-with-clients-in-a-digital-world-webinar-3-3
LOCATION:Online\, Online
CATEGORIES:Custom Event
END:VEVENT
END:VCALENDAR