BEGIN:VCALENDAR
VERSION:2.0
PRODID:-//ACCES Employment - ECPv6.15.18//NONSGML v1.0//EN
CALSCALE:GREGORIAN
METHOD:PUBLISH
X-ORIGINAL-URL:https://accesemployment.ca
X-WR-CALDESC:Events for ACCES Employment
REFRESH-INTERVAL;VALUE=DURATION:PT1H
X-Robots-Tag:noindex
X-PUBLISHED-TTL:PT1H
BEGIN:VTIMEZONE
TZID:America/Toronto
BEGIN:DAYLIGHT
TZOFFSETFROM:-0500
TZOFFSETTO:-0400
TZNAME:EDT
DTSTART:20250309T070000
END:DAYLIGHT
BEGIN:STANDARD
TZOFFSETFROM:-0400
TZOFFSETTO:-0500
TZNAME:EST
DTSTART:20251102T060000
END:STANDARD
BEGIN:DAYLIGHT
TZOFFSETFROM:-0500
TZOFFSETTO:-0400
TZNAME:EDT
DTSTART:20260308T070000
END:DAYLIGHT
BEGIN:STANDARD
TZOFFSETFROM:-0400
TZOFFSETTO:-0500
TZNAME:EST
DTSTART:20261101T060000
END:STANDARD
BEGIN:DAYLIGHT
TZOFFSETFROM:-0500
TZOFFSETTO:-0400
TZNAME:EDT
DTSTART:20270314T070000
END:DAYLIGHT
BEGIN:STANDARD
TZOFFSETFROM:-0400
TZOFFSETTO:-0500
TZNAME:EST
DTSTART:20271107T060000
END:STANDARD
END:VTIMEZONE
BEGIN:VEVENT
DTSTART;TZID=America/Toronto:20260310T093000
DTEND;TZID=America/Toronto:20260310T103000
DTSTAMP:20260422T093810
CREATED:20260120T010019Z
LAST-MODIFIED:20260310T130011Z
UID:10002721-1773135000-1773138600@accesemployment.ca
SUMMARY:Tax Strategies for Corporations
DESCRIPTION:Join us for a practical workshop on where you will learn key methods to legally minimize corporate tax liability and improve your company’s financial efficiency. This session will cover common strategies that help businesses reduce taxes and plan effectively. Ideal for business owners and entrepreneurs looking to optimize their corporate tax position.
URL:https://accesemployment.ca/event/tax-strategies-for-corporations
LOCATION:Online\, Online
CATEGORIES:Online Event Series
END:VEVENT
END:VCALENDAR