BEGIN:VCALENDAR
VERSION:2.0
PRODID:-//ACCES Employment - ECPv6.15.18//NONSGML v1.0//EN
CALSCALE:GREGORIAN
METHOD:PUBLISH
X-ORIGINAL-URL:https://accesemployment.ca
X-WR-CALDESC:Events for ACCES Employment
REFRESH-INTERVAL;VALUE=DURATION:PT1H
X-Robots-Tag:noindex
X-PUBLISHED-TTL:PT1H
BEGIN:VTIMEZONE
TZID:America/Toronto
BEGIN:DAYLIGHT
TZOFFSETFROM:-0500
TZOFFSETTO:-0400
TZNAME:EDT
DTSTART:20250309T070000
END:DAYLIGHT
BEGIN:STANDARD
TZOFFSETFROM:-0400
TZOFFSETTO:-0500
TZNAME:EST
DTSTART:20251102T060000
END:STANDARD
BEGIN:DAYLIGHT
TZOFFSETFROM:-0500
TZOFFSETTO:-0400
TZNAME:EDT
DTSTART:20260308T070000
END:DAYLIGHT
BEGIN:STANDARD
TZOFFSETFROM:-0400
TZOFFSETTO:-0500
TZNAME:EST
DTSTART:20261101T060000
END:STANDARD
BEGIN:DAYLIGHT
TZOFFSETFROM:-0500
TZOFFSETTO:-0400
TZNAME:EDT
DTSTART:20270314T070000
END:DAYLIGHT
BEGIN:STANDARD
TZOFFSETFROM:-0400
TZOFFSETTO:-0500
TZNAME:EST
DTSTART:20271107T060000
END:STANDARD
END:VTIMEZONE
BEGIN:VEVENT
DTSTART;TZID=America/Toronto:20260429T100000
DTEND;TZID=America/Toronto:20260429T110000
DTSTAMP:20260420T081720
CREATED:20260403T010014Z
LAST-MODIFIED:20260419T180006Z
UID:10002927-1777456800-1777460400@accesemployment.ca
SUMMARY:Connecting to Careers in Construction - Youth
DESCRIPTION:The Connecting to Careers in Construction (Youth) program will help participants explore career paths in the construction sector\, experience hands-on trade simulations using virtual reality and video tools\, access entry-level job opportunities and apprenticeship pathways\, and receive personalized support with resume writing\, interview preparation\, and one-on-one career coaching.
URL:https://accesemployment.ca/event/connecting-to-careers-in-construction-youth-4
LOCATION:Online\, Online
CATEGORIES:Information Session
END:VEVENT
BEGIN:VEVENT
DTSTART;TZID=America/Toronto:20260429T100000
DTEND;TZID=America/Toronto:20260429T120000
DTSTAMP:20260420T081720
CREATED:20260317T190013Z
LAST-MODIFIED:20260419T180007Z
UID:10002830-1777456800-1777464000@accesemployment.ca
SUMMARY:Info Session: Engineering Connections Program
DESCRIPTION:Engineering Connections helps internationally-trained Engineering professionals pursue careers in their sector in Canada. This information session introduces the program to potential participants while also providing job search advice for the sector.
URL:https://accesemployment.ca/event/info-session-engineering-connections-program-4
LOCATION:Online\, Online
CATEGORIES:Information Session
END:VEVENT
BEGIN:VEVENT
DTSTART;TZID=America/Toronto:20260429T120000
DTEND;TZID=America/Toronto:20260429T133000
DTSTAMP:20260420T081720
CREATED:20260324T010006Z
LAST-MODIFIED:20260419T180007Z
UID:10002868-1777464000-1777469400@accesemployment.ca
SUMMARY:Networking Made Easy – IBM SkillsBuild Workshop
DESCRIPTION:Join us in this interactive workshop to learn how to build meaningful professional connections\, craft a compelling elevator pitch\, and confidently navigate networking events. Whether you’re looking to grow your career\, switch industries\, or expand your professional circle\, this workshop will provide practical tips and strategies to help you make lasting impressions.\n\nLearning Objectives: \n–	Create a memorable elevator pitch\n–	Utilize strategies for navigating and finding networking events\n–	Learn to build long-lasting connections to support your career journey
URL:https://accesemployment.ca/event/networking-made-easy-ibm-skillsbuild-workshop-2
LOCATION:Online\, Online
CATEGORIES:IBM SkillsBuild
END:VEVENT
BEGIN:VEVENT
DTSTART;TZID=America/Toronto:20260501T120000
DTEND;TZID=America/Toronto:20260501T133000
DTSTAMP:20260420T081720
CREATED:20260416T180015Z
LAST-MODIFIED:20260419T180007Z
UID:10002947-1777636800-1777642200@accesemployment.ca
SUMMARY:Find a Job as a Newcomer to Canada – IBM SkillsBuild Workshop
DESCRIPTION:Join us in this interactive workshop to learn how to plan and adapt your job search to the Canadian market\, make connections\, create a Canadian Style resume\, and learn Canadian workplace culture.  \n\n \nLearning Objectives: \n-Learn the differences in a Canadian Style Resume. \n-Utilize tools for job search and networking in Canada. \n-Gain insights into Canadian workplace culture.
URL:https://accesemployment.ca/event/find-a-job-as-a-newcomer-to-canada-ibm-skillsbuild-workshop
LOCATION:Online\, Online
CATEGORIES:IBM SkillsBuild
END:VEVENT
BEGIN:VEVENT
DTSTART;TZID=America/Toronto:20260504T100000
DTEND;TZID=America/Toronto:20260504T110000
DTSTAMP:20260420T081720
CREATED:20260324T190015Z
LAST-MODIFIED:20260419T180007Z
UID:10002883-1777888800-1777892400@accesemployment.ca
SUMMARY:Info Session: Career Pathways for Newcomer Women
DESCRIPTION:Career Pathways for Newcomer Women (CPNW) program supports professional women in securing employment that utilizes their skills and experience. This information session introduces the program to potential participants while also providing overall job search advice.
URL:https://accesemployment.ca/event/info-session-career-pathways-for-newcomer-women-11
LOCATION:Online\, Online
CATEGORIES:Information Session
END:VEVENT
BEGIN:VEVENT
DTSTART;TZID=America/Toronto:20260505T100000
DTEND;TZID=America/Toronto:20260505T120000
DTSTAMP:20260420T081720
CREATED:20260320T010027Z
LAST-MODIFIED:20260419T180007Z
UID:10002846-1777975200-1777982400@accesemployment.ca
SUMMARY:Info Session: Connecting to Careers in the Energy Sector
DESCRIPTION:Connecting Engineers with Careers in the Energy Sector (CECES) is an Ontario-wide\, online\, bridge-to-work program designed to support internationally trained engineering professionals with their integration into the Canadian labour market. This information session introduces the program to potential participants while also providing job search advice for the sector.
URL:https://accesemployment.ca/event/info-session-connecting-to-careers-in-the-energy-sector-3
LOCATION:Online\, Online
CATEGORIES:Information Session
END:VEVENT
BEGIN:VEVENT
DTSTART;TZID=America/Toronto:20260505T110000
DTEND;TZID=America/Toronto:20260505T123000
DTSTAMP:20260420T081720
CREATED:20260416T180016Z
LAST-MODIFIED:20260419T180007Z
UID:10002948-1777978800-1777984200@accesemployment.ca
SUMMARY:Interview Skills Workshop using ChatGPT - with IBM SkillsBuild
DESCRIPTION:This workshop includes an interactive presentation involving practical application of interviewing skills. You will learn strategies for interview answers and how to target\nyour responses to the job description.\nLearning Objectives:\n• Review the company and the job before interviewing\n• Practice answering common questions\n• Follow-up after your interview
URL:https://accesemployment.ca/event/interview-skills-workshop-using-chatgpt-with-ibm-skillsbuild
LOCATION:Online\, Online
CATEGORIES:IBM SkillsBuild
END:VEVENT
BEGIN:VEVENT
DTSTART;TZID=America/Toronto:20260505T133000
DTEND;TZID=America/Toronto:20260505T143000
DTSTAMP:20260420T081720
CREATED:20260414T140015Z
LAST-MODIFIED:20260419T180007Z
UID:10002936-1777987800-1777991400@accesemployment.ca
SUMMARY:Info Session: Healthcare Connections Program
DESCRIPTION:Healthcare Connections helps internationally-educated healthcare professionals create new\, non-licensed career pathways in Canada. This information session introduces the program to potential participants through exploring two available program streams- Health Systems & Community Health.
URL:https://accesemployment.ca/event/info-session-healthcare-connections-program-5
LOCATION:Online\, Online
CATEGORIES:Information Session
END:VEVENT
BEGIN:VEVENT
DTSTART;TZID=America/Toronto:20260505T200000
DTEND;TZID=America/Toronto:20260505T220000
DTSTAMP:20260420T081720
CREATED:20260324T190013Z
LAST-MODIFIED:20260419T180007Z
UID:10002877-1778011200-1778018400@accesemployment.ca
SUMMARY:Interview for Ukrainian Newcomers — IBM SkillsBuild
DESCRIPTION:This workshop includes an interactive presentation involving practical application of interviewing skills. You will learn strategies for interview answers and how to target\nyour responses to the job description.\nLearning Objectives:\n• Review the company and the job before interviewing\n• Practice answering common questions\n• Follow-up after your interview
URL:https://accesemployment.ca/event/interview-for-ukrainian-newcomers-ibm-skillsbuild
LOCATION:Online\, Online
CATEGORIES:IBM SkillsBuild
END:VEVENT
BEGIN:VEVENT
DTSTART;TZID=America/Toronto:20260506T100000
DTEND;TZID=America/Toronto:20260506T110000
DTSTAMP:20260420T081720
CREATED:20260324T190015Z
LAST-MODIFIED:20260419T180008Z
UID:10002884-1778061600-1778065200@accesemployment.ca
SUMMARY:Info Session: Career Pathways for Newcomer Women
DESCRIPTION:Career Pathways for Newcomer Women (CPNW) program supports professional women in securing employment that utilizes their skills and experience. This information session introduces the program to potential participants while also providing overall job search advice.
URL:https://accesemployment.ca/event/info-session-career-pathways-for-newcomer-women-12
LOCATION:Online\, Online
CATEGORIES:Information Session
END:VEVENT
BEGIN:VEVENT
DTSTART;TZID=America/Toronto:20260506T100000
DTEND;TZID=America/Toronto:20260506T120000
DTSTAMP:20260420T081720
CREATED:20260317T190013Z
LAST-MODIFIED:20260419T180008Z
UID:10002831-1778061600-1778068800@accesemployment.ca
SUMMARY:Info Session: Engineering Connections Program
DESCRIPTION:Engineering Connections helps internationally-trained Engineering professionals pursue careers in their sector in Canada. This information session introduces the program to potential participants while also providing job search advice for the sector.
URL:https://accesemployment.ca/event/info-session-engineering-connections-program-5
LOCATION:Online\, Online
CATEGORIES:Information Session
END:VEVENT
BEGIN:VEVENT
DTSTART;TZID=America/Toronto:20260512T103000
DTEND;TZID=America/Toronto:20260512T113000
DTSTAMP:20260420T081720
CREATED:20260414T140016Z
LAST-MODIFIED:20260419T180008Z
UID:10002937-1778581800-1778585400@accesemployment.ca
SUMMARY:Info Session: Healthcare Connections Program
DESCRIPTION:Healthcare Connections helps internationally-educated healthcare professionals create new\, non-licensed career pathways in Canada. This information session introduces the program to potential participants through exploring two available program streams- Health Systems & Community Health.
URL:https://accesemployment.ca/event/info-session-healthcare-connections-program-6
LOCATION:Online\, Online
CATEGORIES:Information Session
END:VEVENT
BEGIN:VEVENT
DTSTART;TZID=America/Toronto:20260512T110000
DTEND;TZID=America/Toronto:20260512T123000
DTSTAMP:20260420T081720
CREATED:20260416T180016Z
LAST-MODIFIED:20260419T180008Z
UID:10002949-1778583600-1778589000@accesemployment.ca
SUMMARY:Use AI to Create an Impactful Resume - with IBM SkillsBuild
DESCRIPTION:Learn to apply machine learning and artificial intelligence to develop your resume and leverage the traits employers look for that can power up your job search and overcome applicant tracking systems (ATS) challenges.\n\nLearning Objectives:\n• Determine the goals of your resume\n• Understand AI language models\n• Write effective resume specific ChatGPT prompts
URL:https://accesemployment.ca/event/use-ai-to-create-an-impactful-resume-with-ibm-skillsbuild
LOCATION:Online\, Online
CATEGORIES:IBM SkillsBuild
END:VEVENT
BEGIN:VEVENT
DTSTART;TZID=America/Toronto:20260513T100000
DTEND;TZID=America/Toronto:20260513T120000
DTSTAMP:20260420T081720
CREATED:20260317T190014Z
LAST-MODIFIED:20260419T180008Z
UID:10002832-1778666400-1778673600@accesemployment.ca
SUMMARY:Info Session: Engineering Connections Program
DESCRIPTION:Engineering Connections helps internationally-trained Engineering professionals pursue careers in their sector in Canada. This information session introduces the program to potential participants while also providing job search advice for the sector.
URL:https://accesemployment.ca/event/info-session-engineering-connections-program-6
LOCATION:Online\, Online
CATEGORIES:Information Session
END:VEVENT
BEGIN:VEVENT
DTSTART;TZID=America/Toronto:20260519T100000
DTEND;TZID=America/Toronto:20260519T120000
DTSTAMP:20260420T081720
CREATED:20260320T010028Z
LAST-MODIFIED:20260419T180008Z
UID:10002847-1779184800-1779192000@accesemployment.ca
SUMMARY:Info Session: Connecting to Careers in the Energy Sector
DESCRIPTION:Connecting Engineers with Careers in the Energy Sector (CECES) is an Ontario-wide\, online\, bridge-to-work program designed to support internationally trained engineering professionals with their integration into the Canadian labour market. This information session introduces the program to potential participants while also providing job search advice for the sector.
URL:https://accesemployment.ca/event/info-session-connecting-to-careers-in-the-energy-sector-4
LOCATION:Online\, Online
CATEGORIES:Information Session
END:VEVENT
BEGIN:VEVENT
DTSTART;TZID=America/Toronto:20260520T100000
DTEND;TZID=America/Toronto:20260520T120000
DTSTAMP:20260420T081720
CREATED:20260317T190014Z
LAST-MODIFIED:20260419T180008Z
UID:10002833-1779271200-1779278400@accesemployment.ca
SUMMARY:Info Session: Engineering Connections Program
DESCRIPTION:Engineering Connections helps internationally-trained Engineering professionals pursue careers in their sector in Canada. This information session introduces the program to potential participants while also providing job search advice for the sector.
URL:https://accesemployment.ca/event/info-session-engineering-connections-program-7
LOCATION:Online\, Online
CATEGORIES:Information Session
END:VEVENT
BEGIN:VEVENT
DTSTART;TZID=America/Toronto:20260521T120000
DTEND;TZID=America/Toronto:20260521T133000
DTSTAMP:20260420T081720
CREATED:20260416T180017Z
LAST-MODIFIED:20260419T180008Z
UID:10002950-1779364800-1779370200@accesemployment.ca
SUMMARY:LinkedIn 101 Workshop - with IBM SkillsBuild
DESCRIPTION:Join us in this interactive workshop to learn how to utilize LinkedIn for your job search journey . You will learn strategies for targeting your LinkedIn profile\, forming connections\, keeping your account active\, and reaching out to employers.\n\nLearning Objectives:\n\n• Target your LinkedIn profile to reach employers \n\n• Connect with professionals in your field for informational interviews\n\n• Reach out to employers and recruiters
URL:https://accesemployment.ca/event/linkedin-101-workshop-with-ibm-skillsbuild-2
LOCATION:Online\, Online
CATEGORIES:IBM SkillsBuild
END:VEVENT
BEGIN:VEVENT
DTSTART;TZID=America/Toronto:20260527T100000
DTEND;TZID=America/Toronto:20260527T120000
DTSTAMP:20260420T081720
CREATED:20260317T190014Z
LAST-MODIFIED:20260419T180008Z
UID:10002834-1779876000-1779883200@accesemployment.ca
SUMMARY:Info Session: Engineering Connections Program
DESCRIPTION:Engineering Connections helps internationally-trained Engineering professionals pursue careers in their sector in Canada. This information session introduces the program to potential participants while also providing job search advice for the sector.
URL:https://accesemployment.ca/event/info-session-engineering-connections-program-8
LOCATION:Online\, Online
CATEGORIES:Information Session
END:VEVENT
BEGIN:VEVENT
DTSTART;TZID=America/Toronto:20260527T120000
DTEND;TZID=America/Toronto:20260527T133000
DTSTAMP:20260420T081720
CREATED:20260416T180017Z
LAST-MODIFIED:20260419T180009Z
UID:10002951-1779883200-1779888600@accesemployment.ca
SUMMARY:Networking Made Easy – IBM SkillsBuild Workshop
DESCRIPTION:Join us in this interactive workshop to learn how to build meaningful professional connections\, craft a compelling elevator pitch\, and confidently navigate networking events. Whether you’re looking to grow your career\, switch industries\, or expand your professional circle\, this workshop will provide practical tips and strategies to help you make lasting impressions.\n\nLearning Objectives: \n–	Create a memorable elevator pitch\n–	Utilize strategies for navigating and finding networking events\n–	Learn to build long-lasting connections to support your career journey
URL:https://accesemployment.ca/event/networking-made-easy-ibm-skillsbuild-workshop
LOCATION:Online\, Online
CATEGORIES:IBM SkillsBuild
END:VEVENT
BEGIN:VEVENT
DTSTART;TZID=America/Toronto:20260528T110000
DTEND;TZID=America/Toronto:20260528T120000
DTSTAMP:20260420T081720
CREATED:20260416T140013Z
LAST-MODIFIED:20260419T180009Z
UID:10002946-1779966000-1779969600@accesemployment.ca
SUMMARY:Info Session - Aecon
DESCRIPTION:Aecon Information Session for Job Seekers\n\nA virtual information session is being hosted for job seekers interested in opportunities with Aecon\, one of Canada’s leading construction and infrastructure companies. This session is designed for individuals exploring careers in skilled trades\, construction\, engineering\, and a range of other roles across the sector.\n\nThe session will cover key topics to help job seekers understand Aecon’s work\, values\, and employment pathways:\n\n~Who Aecon is as an organization\n~Company history and major projects\n~Current and upcoming builds\n~What Community Benefits means in the construction sector\n~How Aecon implements Community Benefits Programs\n~Employment opportunities in the construction industry\n~Overview of skilled trades careers\n~ECWE-EG trades and subcontractor roles\n~The role of unions and why joining one supports a trades career\n~Available resources for job seekers\n\nOpen Q&A.
URL:https://accesemployment.ca/event/info-session-aecon
LOCATION:Online\, Online
CATEGORIES:Information Session
END:VEVENT
BEGIN:VEVENT
DTSTART;TZID=America/Toronto:20260528T133000
DTEND;TZID=America/Toronto:20260528T143000
DTSTAMP:20260420T081720
CREATED:20260414T140016Z
LAST-MODIFIED:20260419T180009Z
UID:10002938-1779975000-1779978600@accesemployment.ca
SUMMARY:Info Session: Healthcare Connections Program
DESCRIPTION:Healthcare Connections helps internationally-educated healthcare professionals create new\, non-licensed career pathways in Canada. This information session introduces the program to potential participants through exploring two available program streams- Health Systems & Community Health.
URL:https://accesemployment.ca/event/info-session-healthcare-connections-program-7
LOCATION:Online\, Online
CATEGORIES:Information Session
END:VEVENT
BEGIN:VEVENT
DTSTART;TZID=America/Toronto:20260602T100000
DTEND;TZID=America/Toronto:20260602T120000
DTSTAMP:20260420T081720
CREATED:20260320T010028Z
LAST-MODIFIED:20260419T180009Z
UID:10002848-1780394400-1780401600@accesemployment.ca
SUMMARY:Info Session: Connecting to Careers in the Energy Sector
DESCRIPTION:Connecting Engineers with Careers in the Energy Sector (CECES) is an Ontario-wide\, online\, bridge-to-work program designed to support internationally trained engineering professionals with their integration into the Canadian labour market. This information session introduces the program to potential participants while also providing job search advice for the sector.
URL:https://accesemployment.ca/event/info-session-connecting-to-careers-in-the-energy-sector-5
LOCATION:Online\, Online
CATEGORIES:Information Session
END:VEVENT
BEGIN:VEVENT
DTSTART;TZID=America/Toronto:20260603T100000
DTEND;TZID=America/Toronto:20260603T120000
DTSTAMP:20260420T081720
CREATED:20260317T190015Z
LAST-MODIFIED:20260419T180009Z
UID:10002835-1780480800-1780488000@accesemployment.ca
SUMMARY:Info Session: Engineering Connections Program
DESCRIPTION:Engineering Connections helps internationally-trained Engineering professionals pursue careers in their sector in Canada. This information session introduces the program to potential participants while also providing job search advice for the sector.
URL:https://accesemployment.ca/event/info-session-engineering-connections-program-9
LOCATION:Online\, Online
CATEGORIES:Information Session
END:VEVENT
BEGIN:VEVENT
DTSTART;TZID=America/Toronto:20260604T103000
DTEND;TZID=America/Toronto:20260604T113000
DTSTAMP:20260420T081720
CREATED:20260414T140017Z
LAST-MODIFIED:20260419T180009Z
UID:10002939-1780569000-1780572600@accesemployment.ca
SUMMARY:Info Session: Healthcare Connections Program
DESCRIPTION:Healthcare Connections helps internationally-educated healthcare professionals create new\, non-licensed career pathways in Canada. This information session introduces the program to potential participants through exploring two available program streams- Health Systems & Community Health.
URL:https://accesemployment.ca/event/info-session-healthcare-connections-program-8
LOCATION:Online\, Online
CATEGORIES:Information Session
END:VEVENT
BEGIN:VEVENT
DTSTART;TZID=America/Toronto:20260610T100000
DTEND;TZID=America/Toronto:20260610T120000
DTSTAMP:20260420T081720
CREATED:20260304T190029Z
LAST-MODIFIED:20260419T180009Z
UID:10002807-1781085600-1781092800@accesemployment.ca
SUMMARY:Connecting to Careers in Biomanufacturing
DESCRIPTION:Connecting to Careers in Biomanufacturing is a program that helps internationally trained newcomers with backgrounds in life sciences secure meaningful employment in Ontario’s growing biomanufacturing sector.
URL:https://accesemployment.ca/event/connecting-to-careers-in-biomanufacturing-7
LOCATION:Online\, Online
CATEGORIES:Information Session
END:VEVENT
BEGIN:VEVENT
DTSTART;TZID=America/Toronto:20260610T100000
DTEND;TZID=America/Toronto:20260610T120000
DTSTAMP:20260420T081720
CREATED:20260317T190016Z
LAST-MODIFIED:20260419T180009Z
UID:10002836-1781085600-1781092800@accesemployment.ca
SUMMARY:Info Session: Engineering Connections Program
DESCRIPTION:Engineering Connections helps internationally-trained Engineering professionals pursue careers in their sector in Canada. This information session introduces the program to potential participants while also providing job search advice for the sector.
URL:https://accesemployment.ca/event/info-session-engineering-connections-program-10
LOCATION:Online\, Online
CATEGORIES:Information Session
END:VEVENT
BEGIN:VEVENT
DTSTART;TZID=America/Toronto:20260611T133000
DTEND;TZID=America/Toronto:20260611T143000
DTSTAMP:20260420T081720
CREATED:20260414T140017Z
LAST-MODIFIED:20260419T180009Z
UID:10002940-1781184600-1781188200@accesemployment.ca
SUMMARY:Info Session: Healthcare Connections Program
DESCRIPTION:Healthcare Connections helps internationally-educated healthcare professionals create new\, non-licensed career pathways in Canada. This information session introduces the program to potential participants through exploring two available program streams- Health Systems & Community Health.
URL:https://accesemployment.ca/event/info-session-healthcare-connections-program-9
LOCATION:Online\, Online
CATEGORIES:Information Session
END:VEVENT
BEGIN:VEVENT
DTSTART;TZID=America/Toronto:20260616T100000
DTEND;TZID=America/Toronto:20260616T120000
DTSTAMP:20260420T081720
CREATED:20260320T010029Z
LAST-MODIFIED:20260419T180010Z
UID:10002849-1781604000-1781611200@accesemployment.ca
SUMMARY:Info Session: Connecting to Careers in the Energy Sector
DESCRIPTION:Connecting Engineers with Careers in the Energy Sector (CECES) is an Ontario-wide\, online\, bridge-to-work program designed to support internationally trained engineering professionals with their integration into the Canadian labour market. This information session introduces the program to potential participants while also providing job search advice for the sector.
URL:https://accesemployment.ca/event/info-session-connecting-to-careers-in-the-energy-sector-6
LOCATION:Online\, Online
CATEGORIES:Information Session
END:VEVENT
BEGIN:VEVENT
DTSTART;TZID=America/Toronto:20260616T103000
DTEND;TZID=America/Toronto:20260616T113000
DTSTAMP:20260420T081720
CREATED:20260414T140018Z
LAST-MODIFIED:20260419T180010Z
UID:10002941-1781605800-1781609400@accesemployment.ca
SUMMARY:Info Session: Healthcare Connections Program
DESCRIPTION:Healthcare Connections helps internationally-educated healthcare professionals create new\, non-licensed career pathways in Canada. This information session introduces the program to potential participants through exploring two available program streams- Health Systems & Community Health.
URL:https://accesemployment.ca/event/info-session-healthcare-connections-program-10
LOCATION:Online\, Online
CATEGORIES:Information Session
END:VEVENT
BEGIN:VEVENT
DTSTART;TZID=America/Toronto:20260617T100000
DTEND;TZID=America/Toronto:20260617T120000
DTSTAMP:20260420T081720
CREATED:20260304T190029Z
LAST-MODIFIED:20260419T180010Z
UID:10002808-1781690400-1781697600@accesemployment.ca
SUMMARY:Connecting to Careers in Biomanufacturing
DESCRIPTION:Connecting to Careers in Biomanufacturing is a program that helps internationally trained newcomers with backgrounds in life sciences secure meaningful employment in Ontario’s growing biomanufacturing sector.
URL:https://accesemployment.ca/event/connecting-to-careers-in-biomanufacturing-8
LOCATION:Online\, Online
CATEGORIES:Information Session
END:VEVENT
END:VCALENDAR